BEGIN:VCALENDAR
VERSION:2.0
PRODID:-//Architektura, wnętrza, technologia, design - HomeSquare - ECPv5.10.0//NONSGML v1.0//EN
CALSCALE:GREGORIAN
METHOD:PUBLISH
X-WR-CALNAME:Architektura, wnętrza, technologia, design - HomeSquare
X-ORIGINAL-URL:https://www.homesquare.pl
X-WR-CALDESC:Wydarzenia dla Architektura, wnętrza, technologia, design - HomeSquare
BEGIN:VTIMEZONE
TZID:Europe/Warsaw
BEGIN:DAYLIGHT
TZOFFSETFROM:+0100
TZOFFSETTO:+0200
TZNAME:CEST
DTSTART:20150329T010000
END:DAYLIGHT
BEGIN:STANDARD
TZOFFSETFROM:+0200
TZOFFSETTO:+0100
TZNAME:CET
DTSTART:20151025T010000
END:STANDARD
END:VTIMEZONE
BEGIN:VEVENT
DTSTART;TZID=Europe/Warsaw:20151117T130000
DTEND;TZID=Europe/Warsaw:20151117T210000
DTSTAMP:20260420T084818
CREATED:20151113T103131Z
LAST-MODIFIED:20151113T103131Z
UID:49834-1447765200-1447794000@www.homesquare.pl
SUMMARY:OKK! design – VI edycja. Spotkanie z dobrym wzornictwem! MODA NA DESIGN
DESCRIPTION:Zapraszamy na VI edycję OKK! design – tradycyjnie będzie to okazja do spotkania z dobrym wzornictwem i ciekawymi ludźmi\, a hasłem przewodnim tej edycji jest MODA NA DESIGN. \n Spotkanie odbędzie się 17 listopada 2015 w godzinach 13.00-21.00 w POP UP STORE – strefa DESIGNU w budynku PLAC UNII LUBELSKIEJ przy ul. Puławskiej 2 w Warszawie. Tradycyjnie wezmą w nim udział specjaliści reprezentujący czołowe marki wnętrzarskie\, przedstawiciele środowiska akademickiego\, projektanci form przemysłowych i architekci oraz ludzie związani ze światem mody. \n \nDesign i modę coraz częściej łączą wspólne inspiracje\, technologie\, materiały i metody projektowania. W obu dziedzinach obserwujemy te same trendy\, obie wzajemnie się wzbogacają i rozwijają. Stąd zrodził się właśnie pomysł organizatorów OKK! design by obie te dziedziny połączyć w ramach jednej imprezy. \nW pierwszej części poświęconej wyposażeniu wnętrz przewidziane są m. in. wykłady gości specjalnych: Ewy Mierzejewskiej\, Roberta Majkuta i dr. Jana Sikory. Ewa Mierzejewska to znana dziennikarka specjalizująca sie w tematyce designu. Przez wiele lat redaktor naczelna magazynu Dom & Wnętrze\, obecnie prowadzi własny serwis internetowy ewaiwnetrze.pl\, produkuje i prowadzi programy telewizyjne. Robert Majkut to znany polski designer specjalizujący sie w kompleksowym projektowaniu dla firm\, szef studia projektowego ROBERT MAJKUT DESIGN\, współtwórca marki WHALETONE. Dr Jan Sikora to ceniony architekt wnętrz\, autor m.in. Stacji Kultura w Rumi i Sopoteki. Jest wykładowcą akademickim\, autorem pracy doktorskiej o architekturze polskiego Wybrzeża w kontekście zrównoważonego rozwoju. W 2014 roku został laureatem Nagrody Architektonicznej POLITYKI. \nPonadto w programie znajdą się prelekcje i prezentacje przedstawicieli marek PEKA (www.peka.pl)\, LAKO (www.lako.pl)\, RAUMPLUS (www.raumplus.pl)\, PIXERS (www.pixers.pl). \n \n \n  \nBohaterką drugiej części OKK! design będzie moda. Tę część imprezy poprowadzi Joanna Horodyńska\, a przewidziane są w podczas niej premiery i pokazy takich polskich marek i projektantów jak Ditta Zimmermann\, Gosia Strojek\, Dagmara Michalik\, Aleksandra Kmiecik\, Patryk Wojciechowski\, Bawsome\, By me DESIGN i KOD. Wszyscy zainteresowani aktualnymi tendencjami będą mogli zapytać o nie stylistkę Hannę Bartoś. Dla gości imprezy przewidzianych jest wiele niespodzianek\, m. in. konkurs z cennymi nagrodami! \n \n  \nUdział w VI edycji OKK! design mogą bezpłatnie wziąć wszyscy zainteresowani – prosimy jedynie o wcześniejsze potwierdzenie obecności do 13.11.2015 (piątek) – Olga Kisiel-Konopka\, olga@olgakk.pl\, lub tel. 882 444 811 \n 
URL:https://www.homesquare.pl/event/okk-design-vi-edycja-spotkanie-z-dobrym-wzornictwem-moda-na-design/
LOCATION:Pop Up Story\, Plac Unii City Shopping\, Warszawa\, Polska
CATEGORIES:Eventy
ATTACH;FMTTYPE=image/jpeg:https://www.homesquare.pl/files/uploads/2015/11/POP-UP-STORY.jpg
END:VEVENT
END:VCALENDAR